BEGIN:VCALENDAR
VERSION:2.0
PRODID:-//Tukios.com/
BEGIN:VEVENT
UID:07ff4ac4-6157-4224-850a-9591171b3297@www.cullenfuneralhome.com
DTSTAMP:20260422T224527Z
DTSTART:20260530T190000Z
DTEND:20260530T203000Z
SUMMARY:Reception
DESCRIPTION:
URL:https://www.cullenfuneralhome.com/obituaries/jackie-teague
LOCATION: 612 W. Foxwood Dr.  Raymore MO 64083
GEO:38.8121025;-94.4631544
END:VEVENT
END:VCALENDAR