BEGIN:VCALENDAR
VERSION:2.0
PRODID:-//Tukios.com/
BEGIN:VEVENT
UID:a29477d5-e2f7-48cb-85d9-d80403df4337@www.cullenfuneralhome.com
DTSTAMP:20260422T224450Z
DTSTART:20260530T183000Z
DTEND:20260530T190000Z
SUMMARY:Celebration of Life
DESCRIPTION:
URL:https://www.cullenfuneralhome.com/obituaries/jackie-teague
LOCATION: 612 West Foxwood Drive  Raymore MO 64083
GEO:38.8121025;-94.4631544
END:VEVENT
END:VCALENDAR