BEGIN:VCALENDAR
VERSION:2.0
PRODID:-//Tukios.com/
BEGIN:VEVENT
UID:02a7bdd8-02c0-45a3-acf1-94690c01bbf3@www.cullenfuneralhome.com
DTSTAMP:20260424T193727Z
DTSTART:20260429T180000Z
DTEND:20260429T190000Z
SUMMARY:Celebration of Life
DESCRIPTION:
URL:https://www.cullenfuneralhome.com/obituaries/harriette-rankin
LOCATION:Cullen Funeral Home, Inc. 612 W. Foxwood Dr.  Raymore MO 64083
GEO:38.8121025;-94.4631544
END:VEVENT
END:VCALENDAR