BEGIN:VCALENDAR
VERSION:2.0
PRODID:-//Tukios.com/
BEGIN:VEVENT
UID:d3c0bd28-1ccc-4206-889d-9a3ebf50ddb6@www.cullenfuneralhome.com
DTSTAMP:20260424T193754Z
DTSTART:20260429T170000Z
DTEND:20260429T180000Z
SUMMARY:Visitation
DESCRIPTION:
URL:https://www.cullenfuneralhome.com/obituaries/harriette-rankin
LOCATION:Cullen Funeral Home, Inc. 612 W. Foxwood Dr.  Raymore MO 64083
GEO:38.8121025;-94.4631544
END:VEVENT
END:VCALENDAR